BEGIN:VCALENDAR
VERSION:2.0
PRODID:-//Chatham - ECPv6.15.16//NONSGML v1.0//EN
CALSCALE:GREGORIAN
METHOD:PUBLISH
X-WR-CALNAME:Chatham
X-ORIGINAL-URL:https://www.thecic.ca
X-WR-CALDESC:Events for Chatham
REFRESH-INTERVAL;VALUE=DURATION:PT1H
X-Robots-Tag:noindex
X-PUBLISHED-TTL:PT1H
BEGIN:VTIMEZONE
TZID:America/Toronto
BEGIN:DAYLIGHT
TZOFFSETFROM:-0500
TZOFFSETTO:-0400
TZNAME:EDT
DTSTART:20230312T070000
END:DAYLIGHT
BEGIN:STANDARD
TZOFFSETFROM:-0400
TZOFFSETTO:-0500
TZNAME:EST
DTSTART:20231105T060000
END:STANDARD
BEGIN:DAYLIGHT
TZOFFSETFROM:-0500
TZOFFSETTO:-0400
TZNAME:EDT
DTSTART:20240310T070000
END:DAYLIGHT
BEGIN:STANDARD
TZOFFSETFROM:-0400
TZOFFSETTO:-0500
TZNAME:EST
DTSTART:20241103T060000
END:STANDARD
BEGIN:DAYLIGHT
TZOFFSETFROM:-0500
TZOFFSETTO:-0400
TZNAME:EDT
DTSTART:20250309T070000
END:DAYLIGHT
BEGIN:STANDARD
TZOFFSETFROM:-0400
TZOFFSETTO:-0500
TZNAME:EST
DTSTART:20251102T060000
END:STANDARD
END:VTIMEZONE
BEGIN:VEVENT
DTSTART;VALUE=DATE:20240218
DTEND;VALUE=DATE:20250101
DTSTAMP:20260421T173427
CREATED:20240218T210419Z
LAST-MODIFIED:20240916T024523Z
UID:1895-1708214400-1735689599@www.thecic.ca
SUMMARY:Donation Appeal - 2024
DESCRIPTION:CIC_2024_Wudu Area Project_Final
URL:https://www.thecic.ca/event/donation-appeal-2024/
END:VEVENT
BEGIN:VEVENT
DTSTART;TZID=America/Toronto:20241005T110000
DTEND;TZID=America/Toronto:20241005T140000
DTSTAMP:20260421T173427
CREATED:20240916T024018Z
LAST-MODIFIED:20250226T052033Z
UID:2274-1728126000-1728136800@www.thecic.ca
SUMMARY:Open House - October 2024
DESCRIPTION:Assalamu Alaikum WRBT\, \nChatham Islamic Centre (CIC) is planning on hosting an open house to the Chatham community in October as a part of Islamic Heritage Month celebrations.\nChatham-Kent community is invited to tour the Islamic Centre and Mosque and ask any questions they may have\, and enjoy light refreshments provided by CIC. \nThe open house will take place on October 5th\, 2024 (Saturday) from 11:00am-2:00pm @ 310 McNaughton Avenue West\, Chatham. \nJazakkallah CIC Mgmt
URL:https://www.thecic.ca/event/open-house-october-2024/
ATTACH;FMTTYPE=image/jpeg:https://www.thecic.ca/wp-content/uploads/2024/09/Open-House-CIC.jpeg
END:VEVENT
END:VCALENDAR